Index of /checkResults/devel/bioc-LATEST/VCFArray/raw-results/kunpeng2

[ICO]NameLast modifiedSizeDescription

[DIR]Parent Directory  -  
[TXT]buildsrc-out.txt16-May-2024 02:46 821  
[   ]buildsrc-summary.dcf16-May-2024 02:46 432  
[TXT]install-out.txt16-May-2024 02:46 969  
[   ]install-summary.dcf16-May-2024 02:46 272