Index of /checkResults/devel/bioc-LATEST/TypeInfo/raw-results/merida1
Name
Last modified
Size
Description
Parent Directory
-
buildsrc-out.txt
05-Mar-2024 01:40
1.2K
buildsrc-summary.dcf
05-Mar-2024 01:40
345
install-out.txt
05-Mar-2024 01:40
1.0K
install-summary.dcf
05-Mar-2024 01:40
271