Index of /checkResults/devel/bioc-LATEST/TypeInfo/raw-results/merida1
Name
Last modified
Size
Description
Parent Directory
-
install-summary.dcf
11-May-2024 00:38
271
install-out.txt
11-May-2024 00:38
1.0K
buildsrc-summary.dcf
11-May-2024 00:38
345
buildsrc-out.txt
11-May-2024 00:38
1.2K