Name | Last modified | Size | Description | |
---|---|---|---|---|
Parent Directory | - | |||
install-summary.dcf | 11-May-2024 00:38 | 274 | ||
buildsrc-summary.dcf | 11-May-2024 00:38 | 434 | ||
checksrc-summary.dcf | 11-May-2024 00:38 | 452 | ||
buildbin-summary.dcf | 11-May-2024 00:38 | 543 | ||
buildsrc-out.txt | 11-May-2024 00:38 | 854 | ||
install-out.txt | 11-May-2024 00:38 | 2.6K | ||
checksrc-out.txt | 11-May-2024 00:38 | 4.3K | ||
buildbin-out.txt | 11-May-2024 00:38 | 4.5K | ||