Index of /checkResults/devel/bioc-LATEST/TCGAutils/raw-results/kunpeng2

[ICO]NameLast modifiedSizeDescription

[DIR]Parent Directory  -  
[TXT]buildsrc-out.txt18-Feb-2024 16:30 889  
[   ]buildsrc-summary.dcf18-Feb-2024 16:30 436  
[TXT]checksrc-out.txt18-Feb-2024 16:30 4.0K 
[   ]checksrc-summary.dcf18-Feb-2024 16:30 461  
[TXT]install-out.txt18-Feb-2024 16:30 1.0K 
[   ]install-summary.dcf18-Feb-2024 16:30 275