Index of /checkResults/devel/bioc-LATEST/TCGAutils/raw-results/kunpeng2

[ICO]NameLast modifiedSizeDescription

[DIR]Parent Directory  -  
[   ]install-summary.dcf10-Dec-2023 02:25 272  
[   ]buildsrc-summary.dcf10-Dec-2023 02:25 353  
[TXT]buildsrc-out.txt10-Dec-2023 02:25 658  
[TXT]install-out.txt10-Dec-2023 02:25 1.0K