Index of /checkResults/devel/bioc-LATEST/TAPseq/raw-results
Name
Last modified
Size
Description
Parent Directory
-
info.dcf
08-Dec-2023 01:40
1.1K
kunpeng2/
08-Dec-2023 01:40
-
merida1/
08-Dec-2023 01:38
-
nebbiolo1/
08-Dec-2023 01:36
-
palomino3/
08-Dec-2023 01:37
-