Index of /checkResults/devel/bioc-LATEST/TAPseq/raw-results/kunpeng2

[ICO]NameLast modifiedSizeDescription

[DIR]Parent Directory  -  
[   ]install-summary.dcf18-Feb-2024 16:30 269  
[   ]buildsrc-summary.dcf18-Feb-2024 16:30 427  
[   ]checksrc-summary.dcf18-Feb-2024 16:30 456  
[TXT]buildsrc-out.txt18-Feb-2024 16:30 877  
[TXT]install-out.txt18-Feb-2024 16:30 1.3K 
[TXT]checksrc-out.txt18-Feb-2024 16:30 4.9K