Index of /checkResults/devel/bioc-LATEST/SubCellBarCode/raw-results
Name
Last modified
Size
Description
Parent Directory
-
info.dcf
21-Mar-2023 00:07
277
merida1/
21-Mar-2023 00:07
-
nebbiolo1/
21-Mar-2023 00:05
-
palomino3/
21-Mar-2023 00:06
-