Index of /checkResults/devel/bioc-LATEST/ScaledMatrix/raw-results/nebbiolo1

[ICO]NameLast modifiedSizeDescription

[DIR]Parent Directory  -  
[TXT]buildsrc-out.txt29-Jan-2022 01:06 825  
[   ]buildsrc-summary.dcf29-Jan-2022 01:06 429  
[TXT]checksrc-out.txt29-Jan-2022 01:06 3.0K 
[   ]checksrc-summary.dcf29-Jan-2022 01:06 442  
[TXT]install-out.txt29-Jan-2022 01:06 954  
[   ]install-summary.dcf29-Jan-2022 01:06 268