Index of /checkResults/devel/bioc-LATEST/ScaledMatrix/raw-results

[ICO]NameLast modifiedSizeDescription

[DIR]Parent Directory  -  
[   ]info.dcf27-Nov-2021 04:05 292  
[DIR]merida1/27-Nov-2021 04:05 -  
[DIR]nebbiolo1/27-Nov-2021 04:04 -  
[DIR]riesling1/27-Nov-2021 04:05 -