Name | Last modified | Size | Description | |
---|---|---|---|---|
Parent Directory | - | |||
install-summary.dcf | 27-May-2024 00:35 | 271 | ||
buildsrc-summary.dcf | 27-May-2024 00:35 | 346 | ||
checksrc-summary.dcf | 07-May-2024 00:38 | 448 | ||
buildbin-summary.dcf | 07-May-2024 00:38 | 536 | ||
install-out.txt | 27-May-2024 00:35 | 1.0K | ||
buildbin-out.txt | 07-May-2024 00:38 | 1.2K | ||
buildsrc-out.txt | 27-May-2024 00:35 | 2.1K | ||
checksrc-out.txt | 07-May-2024 00:38 | 4.1K | ||