Index of /checkResults/devel/bioc-LATEST/SNPRelate/raw-results/lconway

[ICO]NameLast modifiedSizeDescription

[DIR]Parent Directory  -  
[   ]install-summary.dcf14-Aug-2022 00:08 273  
[TXT]install-out.txt14-Aug-2022 00:08 6.9K 
[TXT]buildsrc-out.txt14-Aug-2022 00:08 854  
[   ]buildsrc-summary.dcf14-Aug-2022 00:08 433  
[TXT]checksrc-out.txt14-Aug-2022 00:08 3.7K 
[   ]checksrc-summary.dcf14-Aug-2022 00:08 452  
[TXT]buildbin-out.txt14-Aug-2022 00:08 8.1K 
[   ]buildbin-summary.dcf14-Aug-2022 00:08 542