Index of /checkResults/devel/bioc-LATEST/SNPRelate/raw-results

[ICO]NameLast modifiedSizeDescription

[DIR]Parent Directory  -  
[   ]info.dcf29-Jan-2022 01:12 272  
[DIR]merida1/29-Jan-2022 01:12 -  
[DIR]nebbiolo1/29-Jan-2022 01:06 -  
[DIR]palomino3/29-Jan-2022 01:10 -  
[DIR]riesling1/29-Jan-2022 01:08 -