Index of /checkResults/devel/bioc-LATEST/SNPRelate/raw-results
Name
Last modified
Size
Description
Parent Directory
-
kjohnson1/
01-Jun-2024 08:33
-
kunpeng2/
16-May-2024 02:46
-
merida1/
01-Jun-2024 08:31
-
nebbiolo2/
01-Jun-2024 08:29
-
palomino4/
01-Jun-2024 08:30
-
info.dcf
01-Jun-2024 08:28
271