Index of /checkResults/devel/bioc-LATEST/SNPRelate/raw-results/palomino4

[ICO]NameLast modifiedSizeDescription

[DIR]Parent Directory  -  
[TXT]buildbin-out.txt02-Jul-2022 00:06 6.3K 
[   ]buildbin-summary.dcf02-Jul-2022 00:06 544  
[TXT]buildsrc-out.txt02-Jul-2022 00:06 941  
[   ]buildsrc-summary.dcf02-Jul-2022 00:06 460  
[TXT]checksrc-out.txt02-Jul-2022 00:06 4.2K 
[   ]checksrc-summary.dcf02-Jul-2022 00:06 458  
[TXT]install-out.txt02-Jul-2022 00:06 7.0K 
[   ]install-summary.dcf02-Jul-2022 00:06 646