Name | Last modified | Size | Description | |
---|---|---|---|---|
Parent Directory | - | |||
install-summary.dcf | 17-Jul-2024 00:44 | 267 | ||
install-out.txt | 17-Jul-2024 00:44 | 22K | ||
buildsrc-out.txt | 17-Jul-2024 00:44 | 930 | ||
buildsrc-summary.dcf | 17-Jul-2024 00:44 | 422 | ||
checksrc-out.txt | 17-Jul-2024 00:44 | 4.4K | ||
checksrc-summary.dcf | 17-Jul-2024 00:44 | 445 | ||
buildbin-out.txt | 17-Jul-2024 00:44 | 25K | ||
buildbin-summary.dcf | 17-Jul-2024 00:44 | 524 | ||