Index of /checkResults/devel/bioc-LATEST/Rfastp/raw-results

[ICO]NameLast modifiedSizeDescription

[DIR]Parent Directory  -  
[   ]info.dcf10-Dec-2022 01:10 267  
[DIR]merida1/10-Dec-2022 01:10 -  
[DIR]nebbiolo1/10-Dec-2022 01:06 -  
[DIR]palomino3/10-Dec-2022 01:08 -