Name | Last modified | Size | Description | |
---|---|---|---|---|
Parent Directory | - | |||
install-out.txt | 07-Jul-2024 00:45 | 942 | ||
install-summary.dcf | 07-Jul-2024 00:45 | 246 | ||
buildsrc-summary.dcf | 09-Jul-2024 00:45 | 405 | ||
buildsrc-out.txt | 09-Jul-2024 00:45 | 857 | ||
checksrc-out.txt | 09-Jul-2024 00:45 | 7.5K | ||
checksrc-summary.dcf | 09-Jul-2024 00:45 | 404 | ||