Index of /checkResults/devel/bioc-LATEST/RTopper/raw-results
Name
Last modified
Size
Description
Parent Directory
-
info.dcf
23-Mar-2023 00:07
265
merida1/
23-Mar-2023 00:07
-
nebbiolo1/
23-Mar-2023 00:05
-
palomino3/
23-Mar-2023 00:06
-