Index of /checkResults/devel/bioc-LATEST/RTCGA/raw-results
Name
Last modified
Size
Description
Parent Directory
-
palomino4/
09-Jun-2023 01:54
-
nebbiolo2/
09-Jun-2023 01:53
-
lconway/
09-Jun-2023 01:55
-
kunpeng2/
09-Jun-2023 01:56
-
info.dcf
09-Jun-2023 01:56
265