![]() | Name | Last modified | Size | Description |
---|---|---|---|---|
![]() | Parent Directory | - | ||
![]() | buildsrc-out.txt | 07-Dec-2023 01:39 | 847 | |
![]() | buildsrc-summary.dcf | 07-Dec-2023 01:39 | 420 | |
![]() | checksrc-out.txt | 07-Dec-2023 01:39 | 4.7K | |
![]() | checksrc-summary.dcf | 07-Dec-2023 01:39 | 439 | |
![]() | install-out.txt | 07-Dec-2023 01:39 | 956 | |
![]() | install-summary.dcf | 07-Dec-2023 01:39 | 264 | |