![]() | Name | Last modified | Size | Description |
---|---|---|---|---|
![]() | Parent Directory | - | ||
![]() | buildsrc-out.txt | 29-Nov-2023 01:39 | 845 | |
![]() | buildsrc-summary.dcf | 29-Nov-2023 01:39 | 426 | |
![]() | checksrc-out.txt | 29-Nov-2023 01:39 | 5.9K | |
![]() | checksrc-summary.dcf | 29-Nov-2023 01:39 | 451 | |
![]() | install-out.txt | 29-Nov-2023 01:39 | 5.1K | |
![]() | install-summary.dcf | 29-Nov-2023 01:39 | 268 | |