Index of /checkResults/devel/bioc-LATEST/MSnbase/raw-results/kunpeng2

[ICO]NameLast modifiedSizeDescription

[DIR]Parent Directory  -  
[TXT]buildsrc-out.txt27-Feb-2024 04:02 848  
[   ]buildsrc-summary.dcf27-Feb-2024 04:02 430  
[TXT]checksrc-out.txt27-Feb-2024 04:02 5.9K 
[   ]checksrc-summary.dcf27-Feb-2024 04:02 458  
[TXT]install-out.txt27-Feb-2024 04:02 4.7K 
[   ]install-summary.dcf27-Feb-2024 04:02 272