Index of /checkResults/devel/bioc-LATEST/MMUPHin/raw-results/nebbiolo2

[ICO]NameLast modifiedSizeDescription

[DIR]Parent Directory  -  
[TXT]buildsrc-out.txt18-Jun-2024 01:23 893  
[   ]buildsrc-summary.dcf18-Jun-2024 01:23 423  
[TXT]checksrc-out.txt18-Jun-2024 01:23 4.7K 
[   ]checksrc-summary.dcf18-Jun-2024 01:23 414  
[TXT]install-out.txt18-Jun-2024 01:23 972  
[   ]install-summary.dcf18-Jun-2024 01:23 258