Index of /checkResults/devel/bioc-LATEST/MMUPHin/raw-results/nebbiolo2

[ICO]NameLast modifiedSizeDescription

[DIR]Parent Directory  -  
[TXT]install-out.txt19-Jul-2024 00:38 972  
[   ]install-summary.dcf19-Jul-2024 00:38 258  
[TXT]buildsrc-out.txt19-Jul-2024 00:38 893  
[   ]buildsrc-summary.dcf19-Jul-2024 00:38 423  
[TXT]checksrc-out.txt19-Jul-2024 00:38 4.6K 
[   ]checksrc-summary.dcf19-Jul-2024 00:38 414