Index of /checkResults/devel/bioc-LATEST/IHW/raw-results/kunpeng2

[ICO]NameLast modifiedSizeDescription

[DIR]Parent Directory  -  
[TXT]buildsrc-out.txt18-Feb-2024 16:29 884  
[   ]buildsrc-summary.dcf18-Feb-2024 16:29 336  
[TXT]install-out.txt18-Feb-2024 16:29 662  
[   ]install-summary.dcf18-Feb-2024 16:29 265