Index of /checkResults/devel/bioc-LATEST/IHW/raw-results
Name
Last modified
Size
Description
Parent Directory
-
info.dcf
05-Dec-2023 01:39
1.0K
kunpeng2/
05-Dec-2023 01:39
-
merida1/
05-Dec-2023 01:38
-
nebbiolo1/
05-Dec-2023 01:35
-
palomino3/
05-Dec-2023 01:36
-