Index of /checkResults/devel/bioc-LATEST/HiCcompare/raw-results/nebbiolo2

[ICO]NameLast modifiedSizeDescription

[DIR]Parent Directory  -  
[   ]install-summary.dcf20-Aug-2022 01:11 265  
[TXT]install-out.txt20-Aug-2022 01:11 1.0K 
[   ]checksrc-summary.dcf20-Aug-2022 01:11 442  
[TXT]checksrc-out.txt20-Aug-2022 01:11 8.6K 
[   ]buildsrc-summary.dcf20-Aug-2022 01:11 426  
[TXT]buildsrc-out.txt20-Aug-2022 01:11 1.1K