Index of /checkResults/devel/bioc-LATEST/HiCcompare/raw-results

[ICO]NameLast modifiedSizeDescription

[DIR]Parent Directory  -  
[   ]info.dcf30-Mar-2023 00:06 324  
[DIR]merida1/30-Mar-2023 00:06 -  
[DIR]nebbiolo1/30-Mar-2023 00:04 -  
[DIR]palomino3/30-Mar-2023 00:05 -