Name | Last modified | Size | Description | |
---|---|---|---|---|
Parent Directory | - | |||
buildbin-out.txt | 28-Jul-2024 00:41 | 1.2K | ||
buildbin-summary.dcf | 28-Jul-2024 00:41 | 603 | ||
buildsrc-out.txt | 28-Jul-2024 00:41 | 927 | ||
buildsrc-summary.dcf | 28-Jul-2024 00:41 | 464 | ||
checksrc-out.txt | 28-Jul-2024 00:41 | 3.9K | ||
checksrc-summary.dcf | 28-Jul-2024 00:41 | 492 | ||
install-out.txt | 28-Jul-2024 00:41 | 1.0K | ||
install-summary.dcf | 28-Jul-2024 00:41 | 294 | ||