Name | Last modified | Size | Description | |
---|---|---|---|---|
Parent Directory | - | |||
install-summary.dcf | 17-Jul-2024 00:40 | 290 | ||
buildsrc-summary.dcf | 17-Jul-2024 00:40 | 490 | ||
checksrc-summary.dcf | 17-Jul-2024 00:40 | 491 | ||
buildbin-summary.dcf | 17-Jul-2024 00:40 | 569 | ||
install-out.txt | 17-Jul-2024 00:40 | 1.0K | ||
buildbin-out.txt | 17-Jul-2024 00:40 | 1.1K | ||
buildsrc-out.txt | 17-Jul-2024 00:40 | 1.1K | ||
checksrc-out.txt | 17-Jul-2024 00:40 | 4.7K | ||