Index of /checkResults/devel/bioc-LATEST/GeneTonic/raw-results
Name
Last modified
Size
Description
Parent Directory
-
info.dcf
04-Oct-2023 00:40
270
kunpeng2/
04-Oct-2023 00:40
-
lconway/
04-Oct-2023 00:39
-
nebbiolo2/
04-Oct-2023 00:36
-
palomino4/
04-Oct-2023 00:37
-