![]() | Name | Last modified | Size | Description |
---|---|---|---|---|
![]() | Parent Directory | - | ||
![]() | buildsrc-out.txt | 01-Oct-2023 00:36 | 876 | |
![]() | buildsrc-summary.dcf | 01-Oct-2023 00:36 | 421 | |
![]() | checksrc-out.txt | 01-Oct-2023 00:36 | 3.9K | |
![]() | checksrc-summary.dcf | 01-Oct-2023 00:36 | 420 | |
![]() | install-out.txt | 01-Oct-2023 00:36 | 1.0K | |
![]() | install-summary.dcf | 01-Oct-2023 00:36 | 262 | |