Name | Last modified | Size | Description | |
---|---|---|---|---|
Parent Directory | - | |||
buildsrc-out.txt | 28-Jul-2024 00:38 | 918 | ||
buildsrc-summary.dcf | 28-Jul-2024 00:38 | 419 | ||
checksrc-out.txt | 28-Jul-2024 00:38 | 3.7K | ||
checksrc-summary.dcf | 28-Jul-2024 00:38 | 408 | ||
install-out.txt | 28-Jul-2024 00:38 | 961 | ||
install-summary.dcf | 28-Jul-2024 00:38 | 256 | ||