Index of /checkResults/devel/bioc-LATEST/GRaNIE/raw-results/nebbiolo1

[ICO]NameLast modifiedSizeDescription

[DIR]Parent Directory  -  
[TXT]buildsrc-out.txt02-Mar-2024 01:36 894  
[   ]buildsrc-summary.dcf02-Mar-2024 01:36 413  
[TXT]checksrc-out.txt02-Mar-2024 01:36 3.8K 
[   ]checksrc-summary.dcf02-Mar-2024 01:36 408  
[TXT]install-out.txt02-Mar-2024 01:36 961  
[   ]install-summary.dcf02-Mar-2024 01:36 256