Name | Last modified | Size | Description | |
---|---|---|---|---|
Parent Directory | - | |||
install-out.txt | 28-Jun-2024 00:39 | 3.7K | ||
install-summary.dcf | 28-Jun-2024 00:39 | 263 | ||
buildsrc-summary.dcf | 28-Jun-2024 00:39 | 418 | ||
buildsrc-out.txt | 28-Jun-2024 00:39 | 897 | ||
checksrc-out.txt | 28-Jun-2024 00:39 | 5.1K | ||
checksrc-summary.dcf | 28-Jun-2024 00:39 | 437 | ||
buildbin-out.txt | 28-Jun-2024 00:39 | 7.1K | ||
buildbin-summary.dcf | 28-Jun-2024 00:39 | 512 | ||