Index of /checkResults/devel/bioc-LATEST/GGPA/raw-results

[ICO]NameLast modifiedSizeDescription

[DIR]Parent Directory  -  
[   ]info.dcf01-Dec-2022 01:09 263  
[DIR]merida1/01-Dec-2022 01:09 -  
[DIR]nebbiolo1/01-Dec-2022 01:05 -  
[DIR]palomino3/01-Dec-2022 01:07 -