Index of /checkResults/devel/bioc-LATEST/GARS/raw-results/nebbiolo2

[ICO]NameLast modifiedSizeDescription

[DIR]Parent Directory  -  
[TXT]buildsrc-out.txt18-Jun-2024 01:22 818  
[   ]buildsrc-summary.dcf18-Jun-2024 01:22 415  
[TXT]checksrc-out.txt18-Jun-2024 01:22 3.3K 
[   ]checksrc-summary.dcf18-Jun-2024 01:22 402  
[TXT]install-out.txt18-Jun-2024 01:22 1.0K 
[   ]install-summary.dcf18-Jun-2024 01:22 253