Index of /checkResults/devel/bioc-LATEST/GARS/raw-results/nebbiolo2

[ICO]NameLast modifiedSizeDescription

[DIR]Parent Directory  -  
[TXT]buildsrc-out.txt21-Jul-2024 02:54 818  
[   ]buildsrc-summary.dcf21-Jul-2024 02:54 415  
[TXT]checksrc-out.txt21-Jul-2024 02:54 3.3K 
[   ]checksrc-summary.dcf21-Jul-2024 02:54 402  
[TXT]install-out.txt21-Jul-2024 02:54 1.0K 
[   ]install-summary.dcf21-Jul-2024 02:54 253