Index of /checkResults/devel/bioc-LATEST/GARS/raw-results

[ICO]NameLast modifiedSizeDescription

[DIR]Parent Directory  -  
[   ]info.dcf16-Jun-2024 01:32 263  
[DIR]kjohnson1/12-Jun-2024 04:43 -  
[DIR]kjohnson3/16-Jun-2024 01:35 -  
[DIR]kunpeng2/16-May-2024 02:46 -  
[DIR]lconway/16-Jun-2024 01:34 -  
[DIR]merida1/12-Jun-2024 04:41 -  
[DIR]nebbiolo2/16-Jun-2024 01:33 -  
[DIR]palomino4/12-Jun-2024 04:40 -