Index of /checkResults/devel/bioc-LATEST/FELLA/raw-results/kunpeng2
Name
Last modified
Size
Description
Parent Directory
-
buildsrc-summary.dcf
09-Jul-2024 00:44
324
buildsrc-out.txt
09-Jul-2024 00:44
625
install-summary.dcf
07-Jul-2024 00:44
243
install-out.txt
07-Jul-2024 00:44
936