Index of /checkResults/devel/bioc-LATEST/ExperimentHubData/raw-results/nebbiolo1

[ICO]NameLast modifiedSizeDescription

[DIR]Parent Directory  -  
[TXT]buildsrc-out.txt29-Feb-2024 01:36 846  
[   ]buildsrc-summary.dcf29-Feb-2024 01:36 447  
[TXT]checksrc-out.txt29-Feb-2024 01:36 3.6K 
[   ]checksrc-summary.dcf29-Feb-2024 01:36 460  
[TXT]install-out.txt29-Feb-2024 01:36 1.3K 
[   ]install-summary.dcf29-Feb-2024 01:36 279