Name | Last modified | Size | Description | |
---|---|---|---|---|
Parent Directory | - | |||
buildbin-out.txt | 02-May-2024 00:36 | 1.2K | ||
buildbin-summary.dcf | 02-May-2024 00:36 | 590 | ||
buildsrc-out.txt | 02-May-2024 00:36 | 856 | ||
buildsrc-summary.dcf | 02-May-2024 00:36 | 458 | ||
checksrc-out.txt | 02-May-2024 00:36 | 3.7K | ||
checksrc-summary.dcf | 02-May-2024 00:36 | 484 | ||
install-out.txt | 02-May-2024 00:36 | 1.0K | ||
install-summary.dcf | 02-May-2024 00:36 | 289 | ||