Index of /checkResults/devel/bioc-LATEST/EnrichmentBrowser/raw-results

[ICO]NameLast modifiedSizeDescription

[DIR]Parent Directory  -  
[   ]info.dcf10-Dec-2022 01:09 305  
[DIR]merida1/10-Dec-2022 01:09 -  
[DIR]nebbiolo1/10-Dec-2022 01:05 -  
[DIR]palomino3/10-Dec-2022 01:07 -