Index of /checkResults/devel/bioc-LATEST/EnrichmentBrowser/raw-results/nebbiolo1

[ICO]NameLast modifiedSizeDescription

[DIR]Parent Directory  -  
[TXT]buildsrc-out.txt28-Mar-2023 00:05 846  
[   ]buildsrc-summary.dcf28-Mar-2023 00:05 448  
[TXT]checksrc-out.txt28-Mar-2023 00:05 3.8K 
[   ]checksrc-summary.dcf28-Mar-2023 00:05 454  
[TXT]install-out.txt28-Mar-2023 00:05 1.0K 
[   ]install-summary.dcf28-Mar-2023 00:05 279