Index of /checkResults/devel/bioc-LATEST/DMRcate/raw-results/kunpeng2
Name
Last modified
Size
Description
Parent Directory
-
buildsrc-out.txt
29-Mar-2024 00:40
1.5K
buildsrc-summary.dcf
29-Mar-2024 00:40
344
install-out.txt
29-Mar-2024 00:40
970
install-summary.dcf
29-Mar-2024 00:40
268