Index of /checkResults/devel/bioc-LATEST/DExMA/raw-results
Name
Last modified
Size
Description
Parent Directory
-
info.dcf
03-May-2024 00:01
294
merida1/
02-May-2024 00:39
-
nebbiolo2/
03-May-2024 00:02
-
palomino4/
03-May-2024 00:03
-