Name | Last modified | Size | Description | |
---|---|---|---|---|
Parent Directory | - | |||
install-out.txt | 17-Jul-2024 00:40 | 2.3K | ||
install-summary.dcf | 17-Jul-2024 00:40 | 274 | ||
buildsrc-summary.dcf | 17-Jul-2024 00:40 | 459 | ||
buildsrc-out.txt | 17-Jul-2024 00:40 | 1.0K | ||
checksrc-out.txt | 17-Jul-2024 00:40 | 5.4K | ||
checksrc-summary.dcf | 17-Jul-2024 00:40 | 465 | ||
buildbin-out.txt | 17-Jul-2024 00:40 | 2.4K | ||
buildbin-summary.dcf | 17-Jul-2024 00:40 | 521 | ||