Name | Last modified | Size | Description | |
---|---|---|---|---|
Parent Directory | - | |||
buildbin-out.txt | 27-Jul-2024 00:42 | 6.2K | ||
buildbin-summary.dcf | 27-Jul-2024 00:42 | 530 | ||
buildsrc-out.txt | 27-Jul-2024 00:42 | 1.0K | ||
buildsrc-summary.dcf | 27-Jul-2024 00:42 | 427 | ||
checksrc-out.txt | 27-Jul-2024 00:42 | 4.8K | ||
checksrc-summary.dcf | 27-Jul-2024 00:42 | 450 | ||
install-out.txt | 27-Jul-2024 00:42 | 2.6K | ||
install-summary.dcf | 27-Jul-2024 00:42 | 269 | ||